BEGIN:VCALENDAR
VERSION:2.0
PRODID:-// Associazione Italiana Studi Tolkieniani - ECPv6.15.17//NONSGML v1.0//EN
CALSCALE:GREGORIAN
METHOD:PUBLISH
X-ORIGINAL-URL:https://www.jrrtolkien.it
X-WR-CALDESC:Eventi per  Associazione Italiana Studi Tolkieniani
REFRESH-INTERVAL;VALUE=DURATION:PT1H
X-Robots-Tag:noindex
X-PUBLISHED-TTL:PT1H
BEGIN:VTIMEZONE
TZID:Europe/Rome
BEGIN:DAYLIGHT
TZOFFSETFROM:+0100
TZOFFSETTO:+0200
TZNAME:CEST
DTSTART:20240331T010000
END:DAYLIGHT
BEGIN:STANDARD
TZOFFSETFROM:+0200
TZOFFSETTO:+0100
TZNAME:CET
DTSTART:20241027T010000
END:STANDARD
BEGIN:DAYLIGHT
TZOFFSETFROM:+0100
TZOFFSETTO:+0200
TZNAME:CEST
DTSTART:20250330T010000
END:DAYLIGHT
BEGIN:STANDARD
TZOFFSETFROM:+0200
TZOFFSETTO:+0100
TZNAME:CET
DTSTART:20251026T010000
END:STANDARD
BEGIN:DAYLIGHT
TZOFFSETFROM:+0100
TZOFFSETTO:+0200
TZNAME:CEST
DTSTART:20260329T010000
END:DAYLIGHT
BEGIN:STANDARD
TZOFFSETFROM:+0200
TZOFFSETTO:+0100
TZNAME:CET
DTSTART:20261025T010000
END:STANDARD
BEGIN:DAYLIGHT
TZOFFSETFROM:+0100
TZOFFSETTO:+0200
TZNAME:CEST
DTSTART:20270328T010000
END:DAYLIGHT
BEGIN:STANDARD
TZOFFSETFROM:+0200
TZOFFSETTO:+0100
TZNAME:CET
DTSTART:20271031T010000
END:STANDARD
END:VTIMEZONE
BEGIN:VEVENT
DTSTART;TZID=Europe/Rome:20251109T161500
DTEND;TZID=Europe/Rome:20251109T173000
DTSTAMP:20260421T041128
CREATED:20251020T230928Z
LAST-MODIFIED:20251020T230937Z
UID:54828-1762704900-1762709400@www.jrrtolkien.it
SUMMARY:La Mitopoiesi Novecentesca del Ragnarok
DESCRIPTION:Al Festival Gotico\, Cecilia Barella parla del Ragnarok\, l’apocalisse della mitologia norrena e come è stato raccontato nella narrativa moderna
URL:https://www.jrrtolkien.it/evento/la-mitopoiesi-novecentesca-del-ragnarok/
LOCATION:Defrag\, Via delle Isole Curzolane\, 75\,\, Roma\, Roma\, 00139\, Italy
CATEGORIES:Eventi AIST
ATTACH;FMTTYPE=image/webp:https://www.jrrtolkien.it/wp-content/uploads/2025/10/La-Mitopoiesi-Novecentesca-del-Ragnarok.webp
END:VEVENT
BEGIN:VEVENT
DTSTART;TZID=Europe/Rome:20251110T170000
DTEND;TZID=Europe/Rome:20251110T210000
DTSTAMP:20260421T041128
CREATED:20251016T205829Z
LAST-MODIFIED:20251016T210052Z
UID:54736-1762794000-1762808400@www.jrrtolkien.it
SUMMARY:Cineforum Tolkieniano:   - Un Viaggio Inaspettato
DESCRIPTION:Il corso di Filologia Germanica presenta il ᴄɪɴᴇꜰᴏʀᴜᴍ ᴛᴏʟᴋɪᴇɴɪᴀɴᴏ\, che prevede una serie di appuntamenti per la proiezione di \, la trilogia de e de . Un’occasione per esplorare le influenze della filologia germanica sulla scrittura di Tolkien. \nIn occasione del Cineforum è stata allestita una mostra dedicata all’autore al secondo piano\, tra la sezione di Cinema e Inglese\, della biblioteca del Complesso Beato Pellegrino. \nPrima della visione di ogni film ci sarà una breve presentazione a cura del prof. Omar Khalaf e della dott.ssa Andreea M. Toma.
URL:https://www.jrrtolkien.it/evento/cineforum-tolkieniano-un-viaggio-inaspettato/
LOCATION:Complesso Beato Pellegrino\, Via Beato Pellegrino\, 28\, Padova\, Padova\, 35137\, Italy
CATEGORIES:Eventi Italia
ATTACH;FMTTYPE=image/jpeg:https://www.jrrtolkien.it/wp-content/uploads/2025/10/Cineforum-Tolkieniano.jpg
END:VEVENT
BEGIN:VEVENT
DTSTART;TZID=Europe/Rome:20251116T160000
DTEND;TZID=Europe/Rome:20251116T170000
DTSTAMP:20260421T041128
CREATED:20251115T121222Z
LAST-MODIFIED:20251115T121222Z
UID:55136-1763308800-1763312400@www.jrrtolkien.it
SUMMARY:Viaggi nella Terra di Mezzo
DESCRIPTION:Francesco Mattioli\, illustratore di videogiochi educativi\, fumetti\, libri per ragazzi e giochi da tavolo\nViaggi nella Terra di Mezzo – Cartografia dei mondi immaginari\nLa cartografia fantastica dà forma ai mondi letterari: dai romanzi ai giochi da tavolo e di ruolo\, fino al cinema e ai videogame.\n\n\nNella prima parte del viaggio scopriremo come nasce la cartografia fantasy; nella seconda ci addentreremo nelle mappe di Tolkien e nelle tante interpretazioni della Terra di Mezzo.\n\n\nDalla serie LUPO SOLITARIO al gioco di ruolo THE ONE RING\, Francesco Mattioli ci guiderà tra le sue terre fantastiche
URL:https://www.jrrtolkien.it/evento/viaggi-nella-terra-di-mezzo/
LOCATION:Salone degli Incanti\, SaloneRiva Nazario Sauro\, 1\,\, Trieste\, Trieste\, 34123\, Italy
ATTACH;FMTTYPE=image/jpeg:https://www.jrrtolkien.it/wp-content/uploads/2025/11/Viaggi-nella-Terra-di-Mezzo.jpg
END:VEVENT
BEGIN:VEVENT
DTSTART;TZID=Europe/Rome:20251118T180000
DTEND;TZID=Europe/Rome:20251118T220000
DTSTAMP:20260421T041128
CREATED:20251016T210012Z
LAST-MODIFIED:20251016T210811Z
UID:54738-1763488800-1763503200@www.jrrtolkien.it
SUMMARY:Cineforum Tolkieniano:   - La Desolazione di Smaug
DESCRIPTION:Il corso di Filologia Germanica presenta il ᴄɪɴᴇꜰᴏʀᴜᴍ ᴛᴏʟᴋɪᴇɴɪᴀɴᴏ\, che prevede una serie di appuntamenti per la proiezione di \, la trilogia de e de . Un’occasione per esplorare le influenze della filologia germanica sulla scrittura di Tolkien. \nIn occasione del Cineforum è stata allestita una mostra dedicata all’autore al secondo piano\, tra la sezione di Cinema e Inglese\, della biblioteca del Complesso Beato Pellegrino. \nPrima della visione di ogni film ci sarà una breve presentazione a cura del prof. Omar Khalaf e della dott.ssa Andreea M. Toma.
URL:https://www.jrrtolkien.it/evento/cineforum-tolkieniano-la-desolazione-di-smaug/
LOCATION:Complesso Beato Pellegrino\, Via Beato Pellegrino\, 28\, Padova\, Padova\, 35137\, Italy
CATEGORIES:Eventi Italia
ATTACH;FMTTYPE=image/jpeg:https://www.jrrtolkien.it/wp-content/uploads/2025/10/Cineforum-Tolkieniano.jpg
END:VEVENT
BEGIN:VEVENT
DTSTART;TZID=Europe/Rome:20251121T180000
DTEND;TZID=Europe/Rome:20251121T193000
DTSTAMP:20260421T041128
CREATED:20251021T161647Z
LAST-MODIFIED:20251021T161647Z
UID:54841-1763748000-1763753400@www.jrrtolkien.it
SUMMARY:Ent\, Elfi ed Eriador - Presentazione
DESCRIPTION:Presentazione con Stefano Giorgianni e Paolo Nardi
URL:https://www.jrrtolkien.it/evento/ent-elfi-ed-eriador-presentazione/
LOCATION:Libreria “L’Isola del Tesoro” – Verona\, Via Guglielmo Marconi\, 60/A\,\, Verona\, Verona\, 37122\, Italy
CATEGORIES:Eventi Soci
ATTACH;FMTTYPE=image/jpeg:https://www.jrrtolkien.it/wp-content/uploads/2025/10/Ent-Elfi-ed-Eriador-Presentazione.jpg
END:VEVENT
BEGIN:VEVENT
DTSTART;VALUE=DATE:20251122
DTEND;VALUE=DATE:20251124
DTSTAMP:20260421T041128
CREATED:20251122T132837Z
LAST-MODIFIED:20251122T132837Z
UID:55235-1763769600-1763942399@www.jrrtolkien.it
SUMMARY:Le Terre dell'Arte
DESCRIPTION:Ex-tempore di disegno dedicata al Signore degli Anelli \n 
URL:https://www.jrrtolkien.it/evento/le-terre-dellarte/
LOCATION:Salone degli Incanti\, SaloneRiva Nazario Sauro\, 1\,\, Trieste\, Trieste\, 34123\, Italy
CATEGORIES:Eventi Italia
ATTACH;FMTTYPE=image/jpeg:https://www.jrrtolkien.it/wp-content/uploads/2025/11/Le-Terre-dellArte.jpg
END:VEVENT
BEGIN:VEVENT
DTSTART;TZID=Europe/Rome:20251125T170000
DTEND;TZID=Europe/Rome:20251125T210000
DTSTAMP:20260421T041128
CREATED:20251016T210156Z
LAST-MODIFIED:20251016T210736Z
UID:54740-1764090000-1764104400@www.jrrtolkien.it
SUMMARY:Cineforum Tolkieniano:   - La Battaglia delle Cinque Armate
DESCRIPTION:Il corso di Filologia Germanica presenta il ᴄɪɴᴇꜰᴏʀᴜᴍ ᴛᴏʟᴋɪᴇɴɪᴀɴᴏ\, che prevede una serie di appuntamenti per la proiezione di \, la trilogia de e de . Un’occasione per esplorare le influenze della filologia germanica sulla scrittura di Tolkien. \nIn occasione del Cineforum è stata allestita una mostra dedicata all’autore al secondo piano\, tra la sezione di Cinema e Inglese\, della biblioteca del Complesso Beato Pellegrino. \nPrima della visione di ogni film ci sarà una breve presentazione a cura del prof. Omar Khalaf e della dott.ssa Andreea M. Toma.
URL:https://www.jrrtolkien.it/evento/cineforum-tolkieniano-la-battaglia-delle-cinque-armate/
LOCATION:Complesso Beato Pellegrino\, Via Beato Pellegrino\, 28\, Padova\, Padova\, 35137\, Italy
CATEGORIES:Eventi Italia
ATTACH;FMTTYPE=image/jpeg:https://www.jrrtolkien.it/wp-content/uploads/2025/10/Cineforum-Tolkieniano.jpg
END:VEVENT
BEGIN:VEVENT
DTSTART;TZID=Europe/Rome:20251128T173000
DTEND;TZID=Europe/Rome:20251128T183000
DTSTAMP:20260421T041128
CREATED:20251122T133147Z
LAST-MODIFIED:20251122T133147Z
UID:55238-1764351000-1764354600@www.jrrtolkien.it
SUMMARY:L'Anello dei Ratti
DESCRIPTION:Incontro con Leo Ortolani
URL:https://www.jrrtolkien.it/evento/lanello-dei-ratti/
LOCATION:Trieste
CATEGORIES:Eventi Italia
ATTACH;FMTTYPE=image/jpeg:https://www.jrrtolkien.it/wp-content/uploads/2025/11/LAnello-dei-Ratti-Trieste.jpg
END:VEVENT
BEGIN:VEVENT
DTSTART;TZID=Europe/Rome:20251202T170000
DTEND;TZID=Europe/Rome:20251202T220000
DTSTAMP:20260421T041128
CREATED:20251016T210358Z
LAST-MODIFIED:20251016T210420Z
UID:54742-1764694800-1764712800@www.jrrtolkien.it
SUMMARY:Cineforum Tolkieniano:     - La Compagnia dell’Anello
DESCRIPTION:Il corso di Filologia Germanica presenta il ᴄɪɴᴇꜰᴏʀᴜᴍ ᴛᴏʟᴋɪᴇɴɪᴀɴᴏ\, che prevede una serie di appuntamenti per la proiezione di \, la trilogia de e de . Un’occasione per esplorare le influenze della filologia germanica sulla scrittura di Tolkien. \nIn occasione del Cineforum è stata allestita una mostra dedicata all’autore al secondo piano\, tra la sezione di Cinema e Inglese\, della biblioteca del Complesso Beato Pellegrino. \nPrima della visione di ogni film ci sarà una breve presentazione a cura del prof. Omar Khalaf e della dott.ssa Andreea M. Toma.
URL:https://www.jrrtolkien.it/evento/cineforum-tolkieniano-la-compagnia-dellanello/
LOCATION:Complesso Beato Pellegrino\, Via Beato Pellegrino\, 28\, Padova\, Padova\, 35137\, Italy
CATEGORIES:Eventi Italia
ATTACH;FMTTYPE=image/jpeg:https://www.jrrtolkien.it/wp-content/uploads/2025/10/Cineforum-Tolkieniano.jpg
END:VEVENT
BEGIN:VEVENT
DTSTART;VALUE=DATE:20251204
DTEND;VALUE=DATE:20251215
DTSTAMP:20260421T041128
CREATED:20251205T230344Z
LAST-MODIFIED:20251205T230344Z
UID:55351-1764806400-1765756799@www.jrrtolkien.it
SUMMARY:Mostra: Pauline Baynes\, Roberto Innocenti\, Irene Penazzi. In viaggio
DESCRIPTION:Tre illustratori\, tre epoche\, tre sensibilità: Pauline Baynes\, Roberto Innocenti e Irene Penazzi si incontrano in una mostra che celebra l’arte delle mappe illustrate e il potere dell’immaginazione.
URL:https://www.jrrtolkien.it/evento/mostra-pauline-baynes-roberto-innocenti-irene-penazzi-in-viaggio/
LOCATION:Centro Pecchi\, V.le della Repubblica\, 277\, Prato\, Prato\, 59100\, Italy
CATEGORIES:Eventi Italia
ATTACH;FMTTYPE=image/jpeg:https://www.jrrtolkien.it/wp-content/uploads/2025/12/Pauline-Baynes-Roberto-Innocenti-Irene-Penazzi.-In-viaggio.jpg
END:VEVENT
BEGIN:VEVENT
DTSTART;VALUE=DATE:20251205
DTEND;VALUE=DATE:20251219
DTSTAMP:20260421T041128
CREATED:20251126T004300Z
LAST-MODIFIED:20251126T005153Z
UID:55255-1764892800-1766102399@www.jrrtolkien.it
SUMMARY:Galadriel - La mostra
DESCRIPTION:5 Dicembre dalle 16:00 alle 18:00: incontro con le autrici\n5 Dicembre dalle 18: Inaugurazione della mostra\nDal 5 al 18 Dicembre (10.00-13.00 / 14.00-18.00)
URL:https://www.jrrtolkien.it/evento/galadriel-la-mostra/
LOCATION:Scuola Internazionale di Comics\, Via Borgone\, 48 bis/b\, Torino\, Torino\, 10139\, Italy
CATEGORIES:Eventi Italia
ATTACH;FMTTYPE=image/jpeg:https://www.jrrtolkien.it/wp-content/uploads/2025/11/Galadriel-La-Mostra-Scuola-Comics-Torino.jpg
END:VEVENT
BEGIN:VEVENT
DTSTART;TZID=Europe/Rome:20251205T173000
DTEND;TZID=Europe/Rome:20251205T180000
DTSTAMP:20260421T041128
CREATED:20251126T004750Z
LAST-MODIFIED:20251126T004750Z
UID:55261-1764955800-1764957600@www.jrrtolkien.it
SUMMARY:Tolkien Videoludico
DESCRIPTION:Venerdì 5 dicembre 2025 – ore 17.30\nGiulia Martino\, giurista\, scrittrice e videogiocatrice parlerà della Terra di Mezzo videoludica. Dai primi adattamenti ai titoli più recenti\, uno sguardo su come l’opera di Tolkien è stata raccontata attraverso gli anni e le consolle.
URL:https://www.jrrtolkien.it/evento/tolkien-videoludico/
LOCATION:Salone degli Incanti\, SaloneRiva Nazario Sauro\, 1\,\, Trieste\, Trieste\, 34123\, Italy
CATEGORIES:Eventi Italia
ATTACH;FMTTYPE=image/png:https://www.jrrtolkien.it/wp-content/uploads/2025/09/Tolkien-Uomo-Professore-Autore-Manifesto-Trieste.png
END:VEVENT
BEGIN:VEVENT
DTSTART;VALUE=DATE:20251206
DTEND;VALUE=DATE:20251208
DTSTAMP:20260421T041128
CREATED:20251115T121745Z
LAST-MODIFIED:20251115T121815Z
UID:55139-1764979200-1765151999@www.jrrtolkien.it
SUMMARY:MECCG - 1o Torneo di Pontelagolungo
DESCRIPTION:Torneo di Middle-earth Collectible Card Game
URL:https://www.jrrtolkien.it/evento/meccg-1o-torneo-di-pontelagolungo/
LOCATION:Mantova\, Mantova\, Italy
CATEGORIES:Eventi Italia
ATTACH;FMTTYPE=image/jpeg:https://www.jrrtolkien.it/wp-content/uploads/2025/11/MECCG-1o-Torneo-di-Pontelagolungo.jpg
END:VEVENT
BEGIN:VEVENT
DTSTART;TZID=Europe/Rome:20251209T170000
DTEND;TZID=Europe/Rome:20251209T220000
DTSTAMP:20260421T041128
CREATED:20251016T210547Z
LAST-MODIFIED:20251016T210623Z
UID:54744-1765299600-1765317600@www.jrrtolkien.it
SUMMARY:Cineforum Tolkieniano:     - Le Due Torri
DESCRIPTION:Il corso di Filologia Germanica presenta il ᴄɪɴᴇꜰᴏʀᴜᴍ ᴛᴏʟᴋɪᴇɴɪᴀɴᴏ\, che prevede una serie di appuntamenti per la proiezione di \, la trilogia de e de . Un’occasione per esplorare le influenze della filologia germanica sulla scrittura di Tolkien. \nIn occasione del Cineforum è stata allestita una mostra dedicata all’autore al secondo piano\, tra la sezione di Cinema e Inglese\, della biblioteca del Complesso Beato Pellegrino. \nPrima della visione di ogni film ci sarà una breve presentazione a cura del prof. Omar Khalaf e della dott.ssa Andreea M. Toma.
URL:https://www.jrrtolkien.it/evento/cineforum-tolkieniano-la-compagnia-dellanello-2/
LOCATION:Complesso Beato Pellegrino\, Via Beato Pellegrino\, 28\, Padova\, Padova\, 35137\, Italy
CATEGORIES:Eventi Italia
ATTACH;FMTTYPE=image/jpeg:https://www.jrrtolkien.it/wp-content/uploads/2025/10/Cineforum-Tolkieniano.jpg
END:VEVENT
BEGIN:VEVENT
DTSTART;TZID=Europe/Rome:20251211T180000
DTEND;TZID=Europe/Rome:20251211T190000
DTSTAMP:20260421T041128
CREATED:20251115T113203Z
LAST-MODIFIED:20251115T120453Z
UID:55132-1765476000-1765479600@www.jrrtolkien.it
SUMMARY:I Quaderni di Arda - Le nuove strade di Tolkien
DESCRIPTION:Giovedì 11 dicembre\, al Museo LETS Letteratura\, alle ore 18:00\, Roberto Arduini terrà una conferenza dal titolo “I Quaderni di Arda: le nuove strade di Tolkien – Scoprire la Terra di Mezzo tra testi\, film e fantasia”.
URL:https://www.jrrtolkien.it/evento/i-quaderni-di-arda-le-nuove-strade-di-tolkien/
LOCATION:Museo Lets Letteratura\, Piazza Attilio Hortis\, 4\,\, Trieste\, Trieste\, 34123
CATEGORIES:Eventi Soci
ATTACH;FMTTYPE=image/jpeg:https://www.jrrtolkien.it/wp-content/uploads/2021/05/Quaderni-di-Arda-2.jpeg
END:VEVENT
BEGIN:VEVENT
DTSTART;TZID=Europe/Rome:20251213T173000
DTEND;TZID=Europe/Rome:20251213T183000
DTSTAMP:20260421T041128
CREATED:20251126T005119Z
LAST-MODIFIED:20251126T005119Z
UID:55263-1765647000-1765650600@www.jrrtolkien.it
SUMMARY:Tolkien nella cultura pop
DESCRIPTION:con Giuseppe Grossi\nUn viaggio tra film\, serie TV\, fumetti\, giochi da tavolo e videogiochi per scoprire le infinite tracce dell’immaginario tolkieniano nella cultura di massa.
URL:https://www.jrrtolkien.it/evento/tolkien-nella-cultura-pop-2/
LOCATION:Salone degli Incanti\, SaloneRiva Nazario Sauro\, 1\,\, Trieste\, Trieste\, 34123\, Italy
CATEGORIES:Eventi Italia
ATTACH;FMTTYPE=image/png:https://www.jrrtolkien.it/wp-content/uploads/2025/09/Tolkien-Uomo-Professore-Autore-Manifesto-Trieste.png
END:VEVENT
BEGIN:VEVENT
DTSTART;TZID=Europe/Rome:20251216T170000
DTEND;TZID=Europe/Rome:20251216T210000
DTSTAMP:20260421T041128
CREATED:20251016T210932Z
LAST-MODIFIED:20251016T210932Z
UID:54746-1765904400-1765918800@www.jrrtolkien.it
SUMMARY:Cineforum Tolkieniano:     - Il Ritorno del Re
DESCRIPTION:Il corso di Filologia Germanica presenta il ᴄɪɴᴇꜰᴏʀᴜᴍ ᴛᴏʟᴋɪᴇɴɪᴀɴᴏ\, che prevede una serie di appuntamenti per la proiezione di \, la trilogia de e de . Un’occasione per esplorare le influenze della filologia germanica sulla scrittura di Tolkien. \nIn occasione del Cineforum è stata allestita una mostra dedicata all’autore al secondo piano\, tra la sezione di Cinema e Inglese\, della biblioteca del Complesso Beato Pellegrino. \nPrima della visione di ogni film ci sarà una breve presentazione a cura del prof. Omar Khalaf e della dott.ssa Andreea M. Toma.
URL:https://www.jrrtolkien.it/evento/cineforum-tolkieniano-il-ritorno-del-re/
LOCATION:Complesso Beato Pellegrino\, Via Beato Pellegrino\, 28\, Padova\, Padova\, 35137\, Italy
CATEGORIES:Eventi Italia
ATTACH;FMTTYPE=image/jpeg:https://www.jrrtolkien.it/wp-content/uploads/2025/10/Cineforum-Tolkieniano.jpg
END:VEVENT
BEGIN:VEVENT
DTSTART;TZID=Europe/Rome:20251216T210000
DTEND;TZID=Europe/Rome:20251216T230000
DTSTAMP:20260421T041128
CREATED:20251205T231057Z
LAST-MODIFIED:20251205T231319Z
UID:55357-1765918800-1765926000@www.jrrtolkien.it
SUMMARY:Il Cielo di Tolkien
DESCRIPTION:Uno spettacolo immersivo che unisce mito\, lingue antiche e astronomia.
URL:https://www.jrrtolkien.it/evento/il-cielo-di-tolkien/
LOCATION:Planetario di Milano\, Corso Venezia\, 57\, Milano\, Milano\, 20121\, Italy
CATEGORIES:Eventi Italia
ATTACH;FMTTYPE=image/jpeg:https://www.jrrtolkien.it/wp-content/uploads/2025/12/Il-Cielo-di-Tolkien-2025-12.jpg
END:VEVENT
BEGIN:VEVENT
DTSTART;VALUE=DATE:20251218
DTEND;VALUE=DATE:20261019
DTSTAMP:20260421T041128
CREATED:20251214T214106Z
LAST-MODIFIED:20251214T214302Z
UID:55471-1766016000-1792367999@www.jrrtolkien.it
SUMMARY:Voyage dans les Mondes de John Howe
DESCRIPTION:Il 18 dicembre 2025 viene presentata anche la mostra Voyage dans les Mondes de John Howe\, che include numerose opere dedicate a J.R.R. Tolkien e alla Terra di Mezzo e sarà visitabile dal 18 dicembre 2025 al 18 ottobre 2026. \nPiù informazioni qui
URL:https://www.jrrtolkien.it/evento/voyage-dans-les-mondes-de-john-howe/
LOCATION:La Tour du Fantastique\, Rue J.-de-Hochberg 3\, Neuchâtel\, Neuchâtel\, 2000\, Switzerland
CATEGORIES:Eventi Internazionali
ATTACH;FMTTYPE=image/jpeg:https://www.jrrtolkien.it/wp-content/uploads/2025/12/Journey-into-the-worlds-of-John-Howe.jpg
END:VEVENT
BEGIN:VEVENT
DTSTART;VALUE=DATE:20251227
DTEND;VALUE=DATE:20251229
DTSTAMP:20260421T041128
CREATED:20251214T213440Z
LAST-MODIFIED:20251214T213506Z
UID:55467-1766793600-1766966399@www.jrrtolkien.it
SUMMARY:Fa Natale Fantasy (Mufant)
DESCRIPTION:PROGRAMMA \nSABATO 27\nORE 16 PRESENTAZIONE LIBRI – con Silvia Maria Ramasso\, Amministratrice di Neos Edizioni\, di “Solo in onore a te” di Chiara Mattea\, e “Natale a Torino\, città del fantastico”\, raccolta curata da Teodora Trevisan. \nORE 17 PRESENTAZIONE LIBRO – “Galadriel. Potere\, bellezza e leggenda dell’Elfa suprema” scritto da Barbara Sanguineti ed illustrato da Elisa Seitzinger\, edito da Eterea Edizioni. Sarà anche presentata la mostra “Galadriel\, da Valinor ai Porti Grigi” basata sulle illustrazioni del volume. \nORE 18 TALK – “Il Bloop oceanico: una storia incredibile tra Lovecraft\, sci-fi e Guerra Fredda”. Luca Tersigni\, Presidente dell’Associazione “La Pentola del Drago”\, racconta quali siano i collegamenti tra il SOSUS\, fantascientifico sistema di idrofoni oceanici\, e “Il Richiamo di Cthulhu”\, racconto di H.P. Lovecraft. \nDOMENICA 28\nORE 16 PRESENTAZIONE LIBRI – editi da Eterea Edizioni\, “Un leggero fruscio tra le foglie” di Valentina Stassi\, “Il Drago-L’artbook” illustrato da Emanuele Manfredi\, e “In cerca di draghi. Fiabe e leggende del nord Italia” di Francesca D’Amato. \nORE 17 INTERVISTA di Beppe Roncari e Flavia Imperi a Sara Simoni sulla sua carriera e sul suo ultimo romanzo “Segreti che sussurriamo alle ombre“\, un romantasy gotico ambientato a Torino\, edito da Il Castoro OFF. \nORE 18 PRESENTAZIONE LIBRI – con Andrea Cavaletto: “Il tempo fatto di cristallo” dei Secondamarea e Tiziano Sclavi e “Io sono i mostri” di Giovanni Canadè\, Andrea Cavaletto e Giuseppe Di Gregorio. A seguire\, Attila Schwanz si esibirà in una PERFORMANCE di live painting sulle note dei Secondamarea.
URL:https://www.jrrtolkien.it/evento/fa-natale-fantasy-mufant/
LOCATION:Mufant\, P.za Riccardo Valla\, 5\, Torino TO\, Torino\, Torino\, 10148\, Italy
CATEGORIES:Eventi Soci
ATTACH;FMTTYPE=image/jpeg:https://www.jrrtolkien.it/wp-content/uploads/2025/12/Fa-Natale-Fantasy-Mufant.jpg
END:VEVENT
BEGIN:VEVENT
DTSTART;VALUE=DATE:20260125
DTEND;VALUE=DATE:20260127
DTSTAMP:20260421T041128
CREATED:20260113T230938Z
LAST-MODIFIED:20260113T231257Z
UID:55623-1769299200-1769471999@www.jrrtolkien.it
SUMMARY:CACCIA ’L DRAGO - Milano
DESCRIPTION:Spettacolo teatrale Caccia’l Drago  \n25 gennaio h 16.00\n25 gennaio h 20.00\n \n\ndi e con Daniele Timpano\nregia Elvira Frosini e Daniele Timpano\nmusiche originali di Natale Romolo\nscene\, costumi\, oggetti a cura di Alessandro Ratti e Officina Scenotecnica Gli Scarti\ndisegno luci di Marco Fumarola\nassistente alla regia Francesca Blancato\norganizzazione e distribuzione di Laura Belloni\nproduzione SCARTI\, Kataklisma teatro \nVedi anche la recensione sul nostro sito
URL:https://www.jrrtolkien.it/evento/caccia-l-drago-milano/
LOCATION:PimOff\, Via Selvanesco\, 75\, Milano\, Milano\, Italy
CATEGORIES:Eventi Italia
ATTACH;FMTTYPE=image/jpeg:https://www.jrrtolkien.it/wp-content/uploads/2026/01/Caccia-l-drago-PimOff.jpg
END:VEVENT
BEGIN:VEVENT
DTSTART;TZID=Europe/Rome:20260130T180000
DTEND;TZID=Europe/Rome:20260130T190000
DTSTAMP:20260421T041128
CREATED:20260113T230539Z
LAST-MODIFIED:20260113T230539Z
UID:55620-1769796000-1769799600@www.jrrtolkien.it
SUMMARY:Un tè con Tolkien - Tolkien e la Guerra
DESCRIPTION:Evento con Paolo Nardi e Stefano Giorgianni
URL:https://www.jrrtolkien.it/evento/un-te-con-tolkien-tolkien-e-la-guerra/
LOCATION:Libreria “L’Isola del Tesoro” – Verona\, Via Guglielmo Marconi\, 60/A\,\, Verona\, Verona\, 37122\, Italy
CATEGORIES:Eventi AIST
ATTACH;FMTTYPE=image/jpeg:https://www.jrrtolkien.it/wp-content/uploads/2026/01/Un-te-con-Tolkien-2026-01.jpg
ORGANIZER;CN="AIST - Associazione Italiana Studi Tolkieniani":MAILTO:info@jrrtolkien.it
END:VEVENT
BEGIN:VEVENT
DTSTART;VALUE=DATE:20260206
DTEND;VALUE=DATE:20260512
DTSTAMP:20260421T041128
CREATED:20251122T133738Z
LAST-MODIFIED:20251122T133827Z
UID:55241-1770336000-1778543999@www.jrrtolkien.it
SUMMARY:CACCIA ’L DRAGO - Roma
DESCRIPTION:Spettacolo teatrale Caccia’l Drago  \n6 e 7 febbraio h 20.30\n8 febbraio h 17.00 /Teatro \ndi e con Daniele Timpano\nregia Elvira Frosini e Daniele Timpano\nmusiche originali di Natale Romolo\nscene\, costumi\, oggetti a cura di Alessandro Ratti e Officina Scenotecnica Gli Scarti\ndisegno luci di Marco Fumarola\nassistente alla regia Francesca Blancato\norganizzazione e distribuzione di Laura Belloni\nproduzione SCARTI\, Kataklisma teatro \nVedi anche la recensione sul nostro sito
URL:https://www.jrrtolkien.it/evento/caccia-l-drago-roma/
LOCATION:Teatro Biblioteca Quarticciolo\, Via Ostuni\, 8 | \, Roma\, Roma\, Roma\, 00171\, Italy
CATEGORIES:Eventi Italia
ATTACH;FMTTYPE=image/jpeg:https://www.jrrtolkien.it/wp-content/uploads/2025/09/Caccia-l-Drago.jpg
END:VEVENT
BEGIN:VEVENT
DTSTART;TZID=Europe/Rome:20260216T173000
DTEND;TZID=Europe/Rome:20260216T190000
DTSTAMP:20260421T041128
CREATED:20260127T080733Z
LAST-MODIFIED:20260127T080733Z
UID:55756-1771263000-1771268400@www.jrrtolkien.it
SUMMARY:Ent\, Elfi ed Eriador - L'ecocentrismo nella Terra di Mezzo
DESCRIPTION:Società Letteraria di Verona – Sala Montanari \nStefano Giorgianni\, Wu Ming 4 e Paolo Nardi dialogano su Ent\, Elfi ed Eriador – L’ecocentrismo nella Terra di Mezzo
URL:https://www.jrrtolkien.it/evento/ent-elfi-ed-eriador-lecocentrismo-nella-terra-di-mezzo/
LOCATION:Società Letteraria di Verona\, Piazzetta Scalette Rubiani\, 1\,\, Verona\, VR\, 37121\, Italy
CATEGORIES:Eventi AIST
ATTACH;FMTTYPE=image/jpeg:https://www.jrrtolkien.it/wp-content/uploads/2026/01/2026-02-Elfi-Ent-ed-Eriador.jpg
END:VEVENT
BEGIN:VEVENT
DTSTART;VALUE=DATE:20260220
DTEND;VALUE=DATE:20260223
DTSTAMP:20260421T041128
CREATED:20251224T144608Z
LAST-MODIFIED:20251224T144608Z
UID:55526-1771545600-1771804799@www.jrrtolkien.it
SUMMARY:La Fiera della Contea
DESCRIPTION:Evento alla Contea Gentile
URL:https://www.jrrtolkien.it/evento/la-fiera-della-contea/
LOCATION:La Contea Gentile\, Contrada Porcareccia\, CH\, Bucchianico\, Chieti\, 66011\, Italy
CATEGORIES:Eventi Italia
ATTACH;FMTTYPE=image/jpeg:https://www.jrrtolkien.it/wp-content/uploads/2025/12/La-Fiera-della-Contea.jpg
END:VEVENT
BEGIN:VEVENT
DTSTART;TZID=Europe/Rome:20260305T210000
DTEND;TZID=Europe/Rome:20260305T220000
DTSTAMP:20260421T041128
CREATED:20260303T190059Z
LAST-MODIFIED:20260303T190155Z
UID:56037-1772744400-1772748000@www.jrrtolkien.it
SUMMARY:Sguardo sul ’900 - L’immaginario e la lingua
DESCRIPTION:La Biblioteca Comunale di Piadena Drizzona propone un percorso letterario dedicato al Novecento con la rassegna “Sguardo sul ’900 – Itinerari Letterari” \nIl primo appuntamento è fissato per giovedì 5 marzo con una serata dedicata a J.R.R. Tolkien dal titolo “L’immaginario e la lingua”. A guidare l’incontro sarà Monica Bovis\, docente di materie letterarie presso il Polo Romani di Casalmaggiore.
URL:https://www.jrrtolkien.it/evento/sguardo-sul-900-limmaginario-e-la-lingua/
LOCATION:Biblioteca comunale di Pradena Drizzona\, Via Platina\, 40\, Piadena\, Cremona\, 26034\, Italy
CATEGORIES:Eventi Italia
END:VEVENT
BEGIN:VEVENT
DTSTART;VALUE=DATE:20260314
DTEND;VALUE=DATE:20260315
DTSTAMP:20260421T041128
CREATED:20260228T215234Z
LAST-MODIFIED:20260228T215234Z
UID:56018-1773446400-1773532799@www.jrrtolkien.it
SUMMARY:2nd Tolkien Conference Switzerland
DESCRIPTION:La seconda Conferenza Tolkieniana Svizzera\, organizzata dall’Università di Zurigo\, dall’Università di Losanna e dall’Università Friedrich Schiller di Jena\, si terrà sabato 14 marzo 2026. L’evento avrà luogo ancora una volta presso l’Università di Zurigo in modalità ibrida. \nIl tema del 2026 è: “Leadership in Tolkien’s Middle-earth”. \nGli speaker confermati per il momento sono: \n\nMatthew T. Dickerson\nJudith Klinger\nChristine Lötscher\nJosé María Miranda Boto\nAnnika RÖttinger\nClaudio Testi (socio AIST).
URL:https://www.jrrtolkien.it/evento/2nd-tolkien-conference-switzerland/
LOCATION:University of Zurich\, Rämistrasse 59\,\, Zurich\, Switzerland\, RAA G01
CATEGORIES:Eventi Internazionali,Eventi Online,Eventi Soci
ATTACH;FMTTYPE=image/jpeg:https://www.jrrtolkien.it/wp-content/uploads/2026/02/2nd-Tolkien-Conference-Switzerland-Leadership-in-Tolkiens-Middle-earth.jpg
END:VEVENT
BEGIN:VEVENT
DTSTART;TZID=Europe/Rome:20260314T170000
DTEND;TZID=Europe/Rome:20260314T190000
DTSTAMP:20260421T041128
CREATED:20260228T220248Z
LAST-MODIFIED:20260228T220248Z
UID:56022-1773507600-1773514800@www.jrrtolkien.it
SUMMARY:Un tè con Tolkien - Le Donne nel Legendarium
DESCRIPTION:Evento con Paolo Nardi e Stefano Giorgianni
URL:https://www.jrrtolkien.it/evento/un-te-con-tolkien-le-donne-nel-legendarium/
LOCATION:Libreria “L’Isola del Tesoro” – Verona\, Via Guglielmo Marconi\, 60/A\,\, Verona\, Verona\, 37122\, Italy
CATEGORIES:Eventi AIST
ATTACH;FMTTYPE=image/jpeg:https://www.jrrtolkien.it/wp-content/uploads/2026/02/Un-te-con-Tolkien-2026-03.jpg
END:VEVENT
BEGIN:VEVENT
DTSTART;TZID=Europe/Rome:20260315T160000
DTEND;TZID=Europe/Rome:20260315T190000
DTSTAMP:20260421T041128
CREATED:20260223T212727Z
LAST-MODIFIED:20260223T212727Z
UID:56012-1773590400-1773601200@www.jrrtolkien.it
SUMMARY:Tolkien: necessità e critica della guerra
DESCRIPTION:Il neonato gruppo tolkeniano Valmar\, con base a Santarcangelo di Romagna si presenta alla collettività con l’incontro pubblico “Tolkien: necessità e critica della guerra”\, che vedrà protagonista lo scrittore e traduttore Wu Ming 4 domenica 15 marzo alle ore 16 nella suggestiva cornice della Celletta Zampeschi di Santarcangelo (via della Cella\, 9)
URL:https://www.jrrtolkien.it/evento/tolkien-necessita-e-critica-della-guerra/
LOCATION:Celletta Zampeschi\, Via della Cella 9\, Santarcangelo\, RN\, 47822\, Italy
CATEGORIES:Eventi Soci
ATTACH;FMTTYPE=image/jpeg:https://www.jrrtolkien.it/wp-content/uploads/2026/02/Presentazione-Valmar.jpg
END:VEVENT
BEGIN:VEVENT
DTSTART;VALUE=DATE:20260321
DTEND;VALUE=DATE:20260324
DTSTAMP:20260421T041128
CREATED:20260321T114149Z
LAST-MODIFIED:20260321T114149Z
UID:56243-1774051200-1774310399@www.jrrtolkien.it
SUMMARY:Bentornati a Casa
DESCRIPTION:Bentornati a Casa – La Fiera della Contea Gentile
URL:https://www.jrrtolkien.it/evento/bentornati-a-casa/
LOCATION:La Contea Gentile\, Contrada Porcareccia\, CH\, Bucchianico\, Chieti\, 66011\, Italy
CATEGORIES:Eventi Italia
ATTACH;FMTTYPE=image/jpeg:https://www.jrrtolkien.it/wp-content/uploads/2026/03/Bentornati-a-Casa-2026-03.jpg
END:VEVENT
END:VCALENDAR