BEGIN:VCALENDAR
VERSION:2.0
PRODID:-// Associazione Italiana Studi Tolkieniani - ECPv6.15.17//NONSGML v1.0//EN
CALSCALE:GREGORIAN
METHOD:PUBLISH
X-WR-CALNAME: Associazione Italiana Studi Tolkieniani
X-ORIGINAL-URL:https://www.jrrtolkien.it
X-WR-CALDESC:Eventi per  Associazione Italiana Studi Tolkieniani
REFRESH-INTERVAL;VALUE=DURATION:PT1H
X-Robots-Tag:noindex
X-PUBLISHED-TTL:PT1H
BEGIN:VTIMEZONE
TZID:Europe/Rome
BEGIN:DAYLIGHT
TZOFFSETFROM:+0100
TZOFFSETTO:+0200
TZNAME:CEST
DTSTART:20240331T010000
END:DAYLIGHT
BEGIN:STANDARD
TZOFFSETFROM:+0200
TZOFFSETTO:+0100
TZNAME:CET
DTSTART:20241027T010000
END:STANDARD
BEGIN:DAYLIGHT
TZOFFSETFROM:+0100
TZOFFSETTO:+0200
TZNAME:CEST
DTSTART:20250330T010000
END:DAYLIGHT
BEGIN:STANDARD
TZOFFSETFROM:+0200
TZOFFSETTO:+0100
TZNAME:CET
DTSTART:20251026T010000
END:STANDARD
BEGIN:DAYLIGHT
TZOFFSETFROM:+0100
TZOFFSETTO:+0200
TZNAME:CEST
DTSTART:20260329T010000
END:DAYLIGHT
BEGIN:STANDARD
TZOFFSETFROM:+0200
TZOFFSETTO:+0100
TZNAME:CET
DTSTART:20261025T010000
END:STANDARD
END:VTIMEZONE
BEGIN:VEVENT
DTSTART;VALUE=DATE:20250830
DTEND;VALUE=DATE:20250831
DTSTAMP:20260421T052950
CREATED:20250828T192423Z
LAST-MODIFIED:20250830T212250Z
UID:53861-1756512000-1756598399@www.jrrtolkien.it
SUMMARY:Tolkien Night 2a edizione
DESCRIPTION:
URL:https://www.jrrtolkien.it/evento/tolkien-night-2a-edizione/
LOCATION:Libreria Macaria\, Corso Roma\, 13/B\, Gallipoli\, Lecce\, 73014\, Italy
CATEGORIES:Eventi Soci
END:VEVENT
END:VCALENDAR